BEGIN:VCALENDAR
VERSION:2.0
PRODID:-//wp-events-plugin.com//7.2.3.1//EN
TZID:Asia/Tokyo
X-WR-TIMEZONE:Asia/Tokyo
BEGIN:VEVENT
UID:82@hasegawa-soroban.com
DTSTART;TZID=Asia/Tokyo;VALUE=DATE:20221020
DTEND;TZID=Asia/Tokyo;VALUE=DATE:20221021
DTSTAMP:20220929T124336Z
URL:https://hasegawa-soroban.com/events/20221020/
SUMMARY:休み
DESCRIPTION:
CATEGORIES:休み
END:VEVENT
BEGIN:VTIMEZONE
TZID:Asia/Tokyo
X-LIC-LOCATION:Asia/Tokyo
BEGIN:STANDARD
DTSTART:20211020T000000
TZOFFSETFROM:+0900
TZOFFSETTO:+0900
TZNAME:JST
END:STANDARD
END:VTIMEZONE
END:VCALENDAR